BEGIN:VCALENDAR
VERSION:2.0
PRODID:-//Kunst im alten Weingut - ECPv6.15.20//NONSGML v1.0//EN
CALSCALE:GREGORIAN
METHOD:PUBLISH
X-ORIGINAL-URL:https://kunstimaltenweingut.de/de
X-WR-CALDESC:Veranstaltungen für Kunst im alten Weingut
REFRESH-INTERVAL;VALUE=DURATION:PT1H
X-Robots-Tag:noindex
X-PUBLISHED-TTL:PT1H
BEGIN:VTIMEZONE
TZID:Europe/Amsterdam
BEGIN:DAYLIGHT
TZOFFSETFROM:+0100
TZOFFSETTO:+0200
TZNAME:CEST
DTSTART:20250330T010000
END:DAYLIGHT
BEGIN:STANDARD
TZOFFSETFROM:+0200
TZOFFSETTO:+0100
TZNAME:CET
DTSTART:20251026T010000
END:STANDARD
BEGIN:DAYLIGHT
TZOFFSETFROM:+0100
TZOFFSETTO:+0200
TZNAME:CEST
DTSTART:20260329T010000
END:DAYLIGHT
BEGIN:STANDARD
TZOFFSETFROM:+0200
TZOFFSETTO:+0100
TZNAME:CET
DTSTART:20261025T010000
END:STANDARD
BEGIN:DAYLIGHT
TZOFFSETFROM:+0100
TZOFFSETTO:+0200
TZNAME:CEST
DTSTART:20270328T010000
END:DAYLIGHT
BEGIN:STANDARD
TZOFFSETFROM:+0200
TZOFFSETTO:+0100
TZNAME:CET
DTSTART:20271031T010000
END:STANDARD
END:VTIMEZONE
BEGIN:VEVENT
DTSTART;VALUE=DATE:20260601
DTEND;VALUE=DATE:20260603
DTSTAMP:20260423T111929
CREATED:20260317T152646Z
LAST-MODIFIED:20260317T152646Z
UID:8873-1780272000-1780444799@kunstimaltenweingut.de
SUMMARY:Geschlossen
DESCRIPTION:
URL:https://kunstimaltenweingut.de/de/event/geschlossen-18/
CATEGORIES:Geschlossen
END:VEVENT
BEGIN:VEVENT
DTSTART;VALUE=DATE:20260606
DTEND;VALUE=DATE:20260607
DTSTAMP:20260423T111929
CREATED:20260317T153006Z
LAST-MODIFIED:20260317T153006Z
UID:8884-1780704000-1780790399@kunstimaltenweingut.de
SUMMARY:Belegt
DESCRIPTION:
URL:https://kunstimaltenweingut.de/de/event/belegt-57/
CATEGORIES:Belegt
END:VEVENT
BEGIN:VEVENT
DTSTART;VALUE=DATE:20260607
DTEND;VALUE=DATE:20260608
DTSTAMP:20260423T111929
CREATED:20260317T153033Z
LAST-MODIFIED:20260317T153033Z
UID:8886-1780790400-1780876799@kunstimaltenweingut.de
SUMMARY:Belegt
DESCRIPTION:
URL:https://kunstimaltenweingut.de/de/event/belegt-58/
CATEGORIES:Belegt
END:VEVENT
BEGIN:VEVENT
DTSTART;VALUE=DATE:20260608
DTEND;VALUE=DATE:20260610
DTSTAMP:20260423T111929
CREATED:20260317T152727Z
LAST-MODIFIED:20260317T152727Z
UID:8876-1780876800-1781049599@kunstimaltenweingut.de
SUMMARY:Geschlossen
DESCRIPTION:
URL:https://kunstimaltenweingut.de/de/event/geschlossen-19/
CATEGORIES:Geschlossen
END:VEVENT
BEGIN:VEVENT
DTSTART;VALUE=DATE:20260610
DTEND;VALUE=DATE:20260611
DTSTAMP:20260423T111929
CREATED:20260414T090708Z
LAST-MODIFIED:20260414T090708Z
UID:8996-1781049600-1781135999@kunstimaltenweingut.de
SUMMARY:Belegt
DESCRIPTION:
URL:https://kunstimaltenweingut.de/de/event/belegt-73/
CATEGORIES:Belegt
END:VEVENT
BEGIN:VEVENT
DTSTART;VALUE=DATE:20260611
DTEND;VALUE=DATE:20260612
DTSTAMP:20260423T111929
CREATED:20260317T153136Z
LAST-MODIFIED:20260317T153136Z
UID:8888-1781136000-1781222399@kunstimaltenweingut.de
SUMMARY:Belegt
DESCRIPTION:
URL:https://kunstimaltenweingut.de/de/event/belegt-59/
CATEGORIES:Belegt
END:VEVENT
BEGIN:VEVENT
DTSTART;VALUE=DATE:20260613
DTEND;VALUE=DATE:20260614
DTSTAMP:20260423T111929
CREATED:20260414T090916Z
LAST-MODIFIED:20260414T090916Z
UID:9000-1781308800-1781395199@kunstimaltenweingut.de
SUMMARY:Belegt
DESCRIPTION:
URL:https://kunstimaltenweingut.de/de/event/belegt-75/
CATEGORIES:Belegt
END:VEVENT
BEGIN:VEVENT
DTSTART;VALUE=DATE:20260614
DTEND;VALUE=DATE:20260615
DTSTAMP:20260423T111929
CREATED:20260414T090941Z
LAST-MODIFIED:20260414T090941Z
UID:9002-1781395200-1781481599@kunstimaltenweingut.de
SUMMARY:Belegt
DESCRIPTION:
URL:https://kunstimaltenweingut.de/de/event/belegt-76/
CATEGORIES:Belegt
END:VEVENT
BEGIN:VEVENT
DTSTART;VALUE=DATE:20260615
DTEND;VALUE=DATE:20260617
DTSTAMP:20260423T111929
CREATED:20260317T152758Z
LAST-MODIFIED:20260317T152758Z
UID:8878-1781481600-1781654399@kunstimaltenweingut.de
SUMMARY:Geschlossen
DESCRIPTION:
URL:https://kunstimaltenweingut.de/de/event/geschlossen-20/
CATEGORIES:Geschlossen
END:VEVENT
BEGIN:VEVENT
DTSTART;VALUE=DATE:20260617
DTEND;VALUE=DATE:20260618
DTSTAMP:20260423T111929
CREATED:20260414T090811Z
LAST-MODIFIED:20260414T090811Z
UID:8998-1781654400-1781740799@kunstimaltenweingut.de
SUMMARY:Belegt
DESCRIPTION:
URL:https://kunstimaltenweingut.de/de/event/belegt-74/
CATEGORIES:Belegt
END:VEVENT
BEGIN:VEVENT
DTSTART;VALUE=DATE:20260622
DTEND;VALUE=DATE:20260624
DTSTAMP:20260423T111929
CREATED:20260317T152842Z
LAST-MODIFIED:20260317T152842Z
UID:8880-1782086400-1782259199@kunstimaltenweingut.de
SUMMARY:Geschlossen
DESCRIPTION:
URL:https://kunstimaltenweingut.de/de/event/geschlossen-21/
CATEGORIES:Geschlossen
END:VEVENT
BEGIN:VEVENT
DTSTART;VALUE=DATE:20260626
DTEND;VALUE=DATE:20260627
DTSTAMP:20260423T111929
CREATED:20260410T104022Z
LAST-MODIFIED:20260410T104022Z
UID:8949-1782432000-1782518399@kunstimaltenweingut.de
SUMMARY:Belegt
DESCRIPTION:
URL:https://kunstimaltenweingut.de/de/event/belegt-21/
CATEGORIES:Belegt
END:VEVENT
BEGIN:VEVENT
DTSTART;VALUE=DATE:20260627
DTEND;VALUE=DATE:20260628
DTSTAMP:20260423T111929
CREATED:20260410T104102Z
LAST-MODIFIED:20260410T104102Z
UID:8951-1782518400-1782604799@kunstimaltenweingut.de
SUMMARY:Belegt
DESCRIPTION:
URL:https://kunstimaltenweingut.de/de/event/belegt-22/
CATEGORIES:Belegt
END:VEVENT
BEGIN:VEVENT
DTSTART;VALUE=DATE:20260628
DTEND;VALUE=DATE:20260629
DTSTAMP:20260423T111929
CREATED:20260410T104133Z
LAST-MODIFIED:20260410T104133Z
UID:8953-1782604800-1782691199@kunstimaltenweingut.de
SUMMARY:Belegt
DESCRIPTION:
URL:https://kunstimaltenweingut.de/de/event/belegt-66/
CATEGORIES:Belegt
END:VEVENT
BEGIN:VEVENT
DTSTART;VALUE=DATE:20260629
DTEND;VALUE=DATE:20260701
DTSTAMP:20260423T111929
CREATED:20260317T152911Z
LAST-MODIFIED:20260317T152911Z
UID:8882-1782691200-1782863999@kunstimaltenweingut.de
SUMMARY:Geschlossen
DESCRIPTION:
URL:https://kunstimaltenweingut.de/de/event/geschlossen-22/
CATEGORIES:Geschlossen
END:VEVENT
END:VCALENDAR