BEGIN:VCALENDAR
VERSION:2.0
PRODID:-//Kunst im alten Weingut - ECPv6.15.20//NONSGML v1.0//EN
CALSCALE:GREGORIAN
METHOD:PUBLISH
X-WR-CALNAME:Kunst im alten Weingut
X-ORIGINAL-URL:https://kunstimaltenweingut.de/de
X-WR-CALDESC:Veranstaltungen für Kunst im alten Weingut
REFRESH-INTERVAL;VALUE=DURATION:PT1H
X-Robots-Tag:noindex
X-PUBLISHED-TTL:PT1H
BEGIN:VTIMEZONE
TZID:Europe/Amsterdam
BEGIN:DAYLIGHT
TZOFFSETFROM:+0100
TZOFFSETTO:+0200
TZNAME:CEST
DTSTART:20250330T010000
END:DAYLIGHT
BEGIN:STANDARD
TZOFFSETFROM:+0200
TZOFFSETTO:+0100
TZNAME:CET
DTSTART:20251026T010000
END:STANDARD
BEGIN:DAYLIGHT
TZOFFSETFROM:+0100
TZOFFSETTO:+0200
TZNAME:CEST
DTSTART:20260329T010000
END:DAYLIGHT
BEGIN:STANDARD
TZOFFSETFROM:+0200
TZOFFSETTO:+0100
TZNAME:CET
DTSTART:20261025T010000
END:STANDARD
BEGIN:DAYLIGHT
TZOFFSETFROM:+0100
TZOFFSETTO:+0200
TZNAME:CEST
DTSTART:20270328T010000
END:DAYLIGHT
BEGIN:STANDARD
TZOFFSETFROM:+0200
TZOFFSETTO:+0100
TZNAME:CET
DTSTART:20271031T010000
END:STANDARD
END:VTIMEZONE
BEGIN:VEVENT
DTSTART;VALUE=DATE:20260501
DTEND;VALUE=DATE:20260502
DTSTAMP:20260423T112317
CREATED:20260414T085743Z
LAST-MODIFIED:20260414T085743Z
UID:8984-1777593600-1777679999@kunstimaltenweingut.de
SUMMARY:Belegt
DESCRIPTION:
URL:https://kunstimaltenweingut.de/de/event/belegt-67/
CATEGORIES:Belegt
END:VEVENT
BEGIN:VEVENT
DTSTART;VALUE=DATE:20260502
DTEND;VALUE=DATE:20260503
DTSTAMP:20260423T112317
CREATED:20260414T085811Z
LAST-MODIFIED:20260414T085811Z
UID:8986-1777680000-1777766399@kunstimaltenweingut.de
SUMMARY:Belegt
DESCRIPTION:
URL:https://kunstimaltenweingut.de/de/event/belegt-68/
CATEGORIES:Belegt
END:VEVENT
BEGIN:VEVENT
DTSTART;VALUE=DATE:20260503
DTEND;VALUE=DATE:20260504
DTSTAMP:20260423T112317
CREATED:20260414T085838Z
LAST-MODIFIED:20260414T090247Z
UID:8988-1777766400-1777852799@kunstimaltenweingut.de
SUMMARY:Belegt
DESCRIPTION:
URL:https://kunstimaltenweingut.de/de/event/belegt-69/
CATEGORIES:Belegt
END:VEVENT
BEGIN:VEVENT
DTSTART;VALUE=DATE:20260504
DTEND;VALUE=DATE:20260506
DTSTAMP:20260423T112317
CREATED:20260317T152051Z
LAST-MODIFIED:20260317T152051Z
UID:8864-1777852800-1778025599@kunstimaltenweingut.de
SUMMARY:Geschlossen
DESCRIPTION:
URL:https://kunstimaltenweingut.de/de/event/geschlossen-12/
CATEGORIES:Geschlossen
END:VEVENT
BEGIN:VEVENT
DTSTART;VALUE=DATE:20260507
DTEND;VALUE=DATE:20260508
DTSTAMP:20260423T112317
CREATED:20260317T151626Z
LAST-MODIFIED:20260317T151626Z
UID:8850-1778112000-1778198399@kunstimaltenweingut.de
SUMMARY:Belegt
DESCRIPTION:
URL:https://kunstimaltenweingut.de/de/event/belegt-53/
CATEGORIES:Belegt
END:VEVENT
BEGIN:VEVENT
DTSTART;VALUE=DATE:20260508
DTEND;VALUE=DATE:20260509
DTSTAMP:20260423T112317
CREATED:20260317T151656Z
LAST-MODIFIED:20260317T151656Z
UID:8852-1778198400-1778284799@kunstimaltenweingut.de
SUMMARY:Belegt
DESCRIPTION:
URL:https://kunstimaltenweingut.de/de/event/belegt-54/
CATEGORIES:Belegt
END:VEVENT
BEGIN:VEVENT
DTSTART;VALUE=DATE:20260509
DTEND;VALUE=DATE:20260510
DTSTAMP:20260423T112317
CREATED:20260317T151734Z
LAST-MODIFIED:20260317T151734Z
UID:8854-1778284800-1778371199@kunstimaltenweingut.de
SUMMARY:Belegt
DESCRIPTION:
URL:https://kunstimaltenweingut.de/de/event/belegt-55/
CATEGORIES:Belegt
END:VEVENT
BEGIN:VEVENT
DTSTART;VALUE=DATE:20260510
DTEND;VALUE=DATE:20260511
DTSTAMP:20260423T112317
CREATED:20260317T151757Z
LAST-MODIFIED:20260317T151757Z
UID:8856-1778371200-1778457599@kunstimaltenweingut.de
SUMMARY:Belegt
DESCRIPTION:
URL:https://kunstimaltenweingut.de/de/event/belegt-56/
CATEGORIES:Belegt
END:VEVENT
BEGIN:VEVENT
DTSTART;VALUE=DATE:20260511
DTEND;VALUE=DATE:20260513
DTSTAMP:20260423T112317
CREATED:20260317T152335Z
LAST-MODIFIED:20260317T152335Z
UID:8867-1778457600-1778630399@kunstimaltenweingut.de
SUMMARY:Geschlossen
DESCRIPTION:
URL:https://kunstimaltenweingut.de/de/event/geschlossen-13/
CATEGORIES:Geschlossen
END:VEVENT
BEGIN:VEVENT
DTSTART;VALUE=DATE:20260513
DTEND;VALUE=DATE:20260514
DTSTAMP:20260423T112317
CREATED:20260414T090337Z
LAST-MODIFIED:20260414T090337Z
UID:8990-1778630400-1778716799@kunstimaltenweingut.de
SUMMARY:Belegt
DESCRIPTION:
URL:https://kunstimaltenweingut.de/de/event/belegt-70/
CATEGORIES:Belegt
END:VEVENT
BEGIN:VEVENT
DTSTART;VALUE=DATE:20260516
DTEND;VALUE=DATE:20260517
DTSTAMP:20260423T112317
CREATED:20260414T090501Z
LAST-MODIFIED:20260414T090501Z
UID:8992-1778889600-1778975999@kunstimaltenweingut.de
SUMMARY:Belegt
DESCRIPTION:
URL:https://kunstimaltenweingut.de/de/event/belegt-71/
CATEGORIES:Belegt
END:VEVENT
BEGIN:VEVENT
DTSTART;VALUE=DATE:20260517
DTEND;VALUE=DATE:20260518
DTSTAMP:20260423T112317
CREATED:20260414T090525Z
LAST-MODIFIED:20260414T090606Z
UID:8994-1778976000-1779062399@kunstimaltenweingut.de
SUMMARY:Belegt
DESCRIPTION:
URL:https://kunstimaltenweingut.de/de/event/belegt-72/
CATEGORIES:Belegt
END:VEVENT
BEGIN:VEVENT
DTSTART;VALUE=DATE:20260518
DTEND;VALUE=DATE:20260520
DTSTAMP:20260423T112317
CREATED:20260317T152404Z
LAST-MODIFIED:20260317T152404Z
UID:8869-1779062400-1779235199@kunstimaltenweingut.de
SUMMARY:Geschlossen
DESCRIPTION:
URL:https://kunstimaltenweingut.de/de/event/geschlossen-14/
CATEGORIES:Geschlossen
END:VEVENT
BEGIN:VEVENT
DTSTART;VALUE=DATE:20260525
DTEND;VALUE=DATE:20260527
DTSTAMP:20260423T112317
CREATED:20260317T152430Z
LAST-MODIFIED:20260317T152545Z
UID:8871-1779667200-1779839999@kunstimaltenweingut.de
SUMMARY:Geschlossen
DESCRIPTION:
URL:https://kunstimaltenweingut.de/de/event/geschlossen-15/
CATEGORIES:Geschlossen
END:VEVENT
BEGIN:VEVENT
DTSTART;VALUE=DATE:20260529
DTEND;VALUE=DATE:20260530
DTSTAMP:20260423T112317
CREATED:20251124T080409Z
LAST-MODIFIED:20251124T080409Z
UID:8626-1780012800-1780099199@kunstimaltenweingut.de
SUMMARY:Belegt
DESCRIPTION:
URL:https://kunstimaltenweingut.de/de/event/belegt-30/
CATEGORIES:Belegt
END:VEVENT
BEGIN:VEVENT
DTSTART;VALUE=DATE:20260530
DTEND;VALUE=DATE:20260531
DTSTAMP:20260423T112317
CREATED:20251124T080448Z
LAST-MODIFIED:20251124T080448Z
UID:8628-1780099200-1780185599@kunstimaltenweingut.de
SUMMARY:Belegt
DESCRIPTION:
URL:https://kunstimaltenweingut.de/de/event/belegt-33/
CATEGORIES:Belegt
END:VEVENT
BEGIN:VEVENT
DTSTART;VALUE=DATE:20260531
DTEND;VALUE=DATE:20260601
DTSTAMP:20260423T112317
CREATED:20251124T080523Z
LAST-MODIFIED:20251124T080523Z
UID:8630-1780185600-1780271999@kunstimaltenweingut.de
SUMMARY:Belegt
DESCRIPTION:
URL:https://kunstimaltenweingut.de/de/event/belegt-34/
CATEGORIES:Belegt
END:VEVENT
END:VCALENDAR